BEGIN:VCALENDAR
VERSION:2.0
PRODID:-//SwAPP - ECPv6.14.2//NONSGML v1.0//EN
CALSCALE:GREGORIAN
METHOD:PUBLISH
X-ORIGINAL-URL:https://swapp.ch
X-WR-CALDESC:Events for SwAPP
REFRESH-INTERVAL;VALUE=DURATION:PT1H
X-Robots-Tag:noindex
X-PUBLISHED-TTL:PT1H
BEGIN:VTIMEZONE
TZID:Europe/Zurich
BEGIN:DAYLIGHT
TZOFFSETFROM:+0100
TZOFFSETTO:+0200
TZNAME:CEST
DTSTART:20240331T010000
END:DAYLIGHT
BEGIN:STANDARD
TZOFFSETFROM:+0200
TZOFFSETTO:+0100
TZNAME:CET
DTSTART:20241027T010000
END:STANDARD
END:VTIMEZONE
BEGIN:VEVENT
DTSTART;TZID=Europe/Zurich:20241205T180000
DTEND;TZID=Europe/Zurich:20241205T203000
DTSTAMP:20260421T110036
CREATED:20241105T093144Z
LAST-MODIFIED:20250905T075251Z
UID:3015-1733421600-1733430600@swapp.ch
SUMMARY:SwAPP Afterworks - Networking Event
DESCRIPTION:Description\nWe are pleased to announce our last SwAPP Afterworks of the year – Networking Event on December 5th in Basel. \nWe will meet you at WERK 8 starting 18:00 – 20:30 with engaging conversations\, valuable connections and a free drink. This is a fantastic opportunity to network with other SwAPP members and friends in a relaxed and friendly atmosphere before Christmas. We look forward to seeing you there! \nIntended audience: This event is ideal for professionals working in the Pharma/Biotech/MedTech and life-sciences sector and academics interested\, for example\, in a job in the industry\, whether experienced or new\, as well as those interested in learning more about SwAPP's activities and initiatives. \nYour Next Steps: \n\nMark the December 5th from 18:00 in your calendar.\nShare this invitation within your network! Everyone interested in connecting with our community is welcome to join.\nRegister below by November 30th (mandatory for participation and free drink)\n\nParticipation fees: \n\nSwAPP members       Free\nNon-Members            CHF 25.-\n\nThe 1st drink is offered by SwAPP to all participants (registration mandatory). \nLocation: WERK 8 – Gundeldinger Feld – Dornacherstrasse 192\, CH-4053 Basel (10-min walk from train station). \nAny questions? Feel free to contact us at swapp@swapp.ch (subject: "Afterworks: Basel").
URL:https://swapp.ch/event/swapp-afterworks-networking-event/
LOCATION:WERK 8 GmbH\, Basel\, Gundeldinger Feld – Dornacherstrasse 192\, Basel\, 4053\, Switzerland
CATEGORIES:Past events,SwAPP events,Discount for SwAPP members
ATTACH;FMTTYPE=image/png:https://swapp.ch/wp-content/uploads/2024/11/image_2024-11-05_100946935.png
ORGANIZER;CN="SwAPP":MAILTO:swapp@swapp.ch
END:VEVENT
BEGIN:VEVENT
DTSTART;TZID=Europe/Zurich:20241212T090000
DTEND;TZID=Europe/Zurich:20241212T173000
DTSTAMP:20260421T110036
CREATED:20241105T081016Z
LAST-MODIFIED:20250905T075155Z
UID:2981-1733994000-1734024600@swapp.ch
SUMMARY:shqa Medical Affairs Certificate Program - Module F: Medical Omnichannel Engagement
DESCRIPTION:Description\nThis Module is a 1 day seminar – 12.12.2024 (09.00 – 17.30h) \nModule content: \n\nWhat is omnichannel and where does the industry stand\, including examples?\nWhy is it also relevant and important for Medical?\nWhat are critical success factors and what needs to be considered?\nHow to develop a persona\nHow to design an omnichannel measure\n\nMor information on the shqa webpage. \nPlace: Trafo Baden Kultur und Kongresszentrum; Brown Boveri P. 1 5400 Baden
URL:https://swapp.ch/event/shqa-medical-affairs-certificate-program-module-f-medical-omnichannel-engagement-12-12-2024/
LOCATION:Trafo Baden Kultur und Kongresszentrum\, Brown Boveri P. 1\, Baden\, 5400\, Switzerland
CATEGORIES:SwAPP accredited events
END:VEVENT
END:VCALENDAR