BEGIN:VCALENDAR
VERSION:2.0
PRODID:-//SwAPP - ECPv6.14.2//NONSGML v1.0//EN
CALSCALE:GREGORIAN
METHOD:PUBLISH
X-WR-CALNAME:SwAPP
X-ORIGINAL-URL:https://swapp.ch
X-WR-CALDESC:Events for SwAPP
REFRESH-INTERVAL;VALUE=DURATION:PT1H
X-Robots-Tag:noindex
X-PUBLISHED-TTL:PT1H
BEGIN:VTIMEZONE
TZID:Europe/Zurich
BEGIN:DAYLIGHT
TZOFFSETFROM:+0100
TZOFFSETTO:+0200
TZNAME:CEST
DTSTART:20220327T010000
END:DAYLIGHT
BEGIN:STANDARD
TZOFFSETFROM:+0200
TZOFFSETTO:+0100
TZNAME:CET
DTSTART:20221030T010000
END:STANDARD
END:VTIMEZONE
BEGIN:VEVENT
DTSTART;VALUE=DATE:20220101
DTEND;VALUE=DATE:20230101
DTSTAMP:20260420T213936
CREATED:20220405T174022Z
LAST-MODIFIED:20250905T080731Z
UID:1171-1640995200-1672531199@swapp.ch
SUMMARY:Annual program  AO Foundation: Clinical investigation and documentation
DESCRIPTION:Description\nsee annual program \nSwAPP Member discount: 15%/event
URL:https://swapp.ch/event/clinical-investigation-and-documentation/
LOCATION:Davos or Fribourg
ORGANIZER;CN="AO Foundation":MAILTO:marina.meuwly@aofoundation.org
END:VEVENT
END:VCALENDAR