BEGIN:VCALENDAR
VERSION:2.0
PRODID:-//SwAPP - ECPv6.14.2//NONSGML v1.0//EN
CALSCALE:GREGORIAN
METHOD:PUBLISH
X-WR-CALNAME:SwAPP
X-ORIGINAL-URL:https://swapp.ch
X-WR-CALDESC:Events for SwAPP
REFRESH-INTERVAL;VALUE=DURATION:PT1H
X-Robots-Tag:noindex
X-PUBLISHED-TTL:PT1H
BEGIN:VTIMEZONE
TZID:Europe/Zurich
BEGIN:DAYLIGHT
TZOFFSETFROM:+0100
TZOFFSETTO:+0200
TZNAME:CEST
DTSTART:20250330T010000
END:DAYLIGHT
BEGIN:STANDARD
TZOFFSETFROM:+0200
TZOFFSETTO:+0100
TZNAME:CET
DTSTART:20251026T010000
END:STANDARD
END:VTIMEZONE
BEGIN:VEVENT
DTSTART;TZID=Europe/Zurich:20251125T173000
DTEND;TZID=Europe/Zurich:20251125T200000
DTSTAMP:20260421T143705
CREATED:20250929T233923Z
LAST-MODIFIED:20251126T161215Z
UID:4086-1764091800-1764100800@swapp.ch
SUMMARY:SwAPP'ero - Zug  Afterwork Networking Event
DESCRIPTION:Description\nThe next SwAPP'ero is happening in Zug on November 25th at Skylounge Zug. \nSwAPP'ero is our way of bringing professionals from Pharma\, Biotech and MedTech together in a relaxed setting\, a chance to exchange ideas\, connect with peers and spark new conversations outside the usual meeting rooms. \nWhether you've joined us before or this will be your first time\, we'd love to see you there. \nIntended audience\nThis event is ideal for newcomers or experienced professionals working\, or willing to work\, in the Pharma/Biotech/MedTech sectors\, as well as those interested in learning more about SwAPP's activities and initiatives. \nYour Next Steps\n\nMark November 25th\, 2025 from 17:30  in your calendar.\nShare this invitation within your network! Everyone interested in connecting with our community is welcome to join.\nRegister below by November 18th (mandatory for participation and free drink).\n\nParticipation fees\n\nSwAPP members Free\nNon-Members CHF 25.00\n\nThe 1st drink is offered by SwAPP to all participants (registration mandatory). \nFor any questions\, feel free to contact us at swapp@swapp.ch (subject: "Afterwork: Zug"). \nWe are looking forward to meeting you there! \nRegistration\n\nThe event is currently full. If you wish to attend\, please email us at swapp@swapp.ch and we'll try to find a spot for you.\nYou can register from the below table and pay online. This is the fastest and recommended way to register. If you prefer to receive a bill\, you can also register manually.\nPlease note that by registering\, you accept that your contact information are entered in our contact database and will be used for communication purposes\, and that your name will appear on the list of participants. You consent also to SwAPP capturing photographs and videos during the event\, which may be utilized in future communication and promotional materials.\n\n\nLocation\nHenry's | Skylounge Bar \nGeneral-Guisan-Strasse 6\n6300 Zug \n(10-min walk from train station) \nSkyloungeHenry's | Skylounge Bar\nGeneral-Guisan-Strasse 6\n6300 Zug\n(10-min walk from train station)
URL:https://swapp.ch/event/swappero-zug-25-nov-2025/
LOCATION:Henry’s | Skylounge Bar\, General-Guisan-Strasse 6\, 6300 Zug\, General-Guisan-Strasse 6\, Zug\, 6300\, Switzerland
CATEGORIES:Past events,SwAPP events,Discount for SwAPP members
ORGANIZER;CN="SwAPP":MAILTO:swapp@swapp.ch
END:VEVENT
END:VCALENDAR