BEGIN:VCALENDAR
VERSION:2.0
PRODID:-//SwAPP - ECPv6.14.2//NONSGML v1.0//EN
CALSCALE:GREGORIAN
METHOD:PUBLISH
X-WR-CALNAME:SwAPP
X-ORIGINAL-URL:https://swapp.ch
X-WR-CALDESC:Events for SwAPP
REFRESH-INTERVAL;VALUE=DURATION:PT1H
X-Robots-Tag:noindex
X-PUBLISHED-TTL:PT1H
BEGIN:VTIMEZONE
TZID:Europe/Zurich
BEGIN:DAYLIGHT
TZOFFSETFROM:+0100
TZOFFSETTO:+0200
TZNAME:CEST
DTSTART:20250330T010000
END:DAYLIGHT
BEGIN:STANDARD
TZOFFSETFROM:+0200
TZOFFSETTO:+0100
TZNAME:CET
DTSTART:20251026T010000
END:STANDARD
END:VTIMEZONE
BEGIN:VEVENT
DTSTART;TZID=Europe/Zurich:20250129T093000
DTEND;TZID=Europe/Zurich:20250129T133000
DTSTAMP:20260421T124555
CREATED:20250107T164738Z
LAST-MODIFIED:20250905T075105Z
UID:3189-1738143000-1738157400@swapp.ch
SUMMARY:SCTO Forum: Regulatory Shake-Up: Key Changes Impacting Clinical Research - Insights into the New ICH GCP E6(R3) and Beyond.
DESCRIPTION:Description\n\nThe 2025 SCTO Forum will explore the latest revisions to the ICH-GCP E6(R3) guidelines\, which aim to modernise and enhance clinical trial practices globally. These updates focus on improving flexibility\, efficiency\, and data integrity in response to evolving trial designs and technological advancements. The speakers will provide in-depth insights into the ICH GCP E6(R3) revision\, covering its rationale\, public consultation feedback\, and main themes emphasised by stakeholders. Major implications for clinical research in Switzerland will be presented\, followed by sessions focusing on risk-based approaches\, quality by design\, and innovative trial designs. The event will also address new data governance requirements in clinical trials. \n\n\nMore information here.
URL:https://swapp.ch/event/scto-forum-regulatory-shake-up-key-changes-impacting-clinical-research-insights-into-the-new-ich-gcp-e6r3-and-beyond/
LOCATION:Swiss National Science Foundation | Plenarsaal (Plenary Hall) | Wildhainweg 21 | Bern\, Swiss National Science Foundation | Plenarsaal (Plenary Hall)\, Wildhainweg 21\, Bern\, BE\, Switzerland
CATEGORIES:SwAPP accredited events
END:VEVENT
END:VCALENDAR