BEGIN:VCALENDAR
VERSION:2.0
PRODID:-//SwAPP - ECPv6.14.2//NONSGML v1.0//EN
CALSCALE:GREGORIAN
METHOD:PUBLISH
X-ORIGINAL-URL:https://swapp.ch
X-WR-CALDESC:Events for SwAPP
REFRESH-INTERVAL;VALUE=DURATION:PT1H
X-Robots-Tag:noindex
X-PUBLISHED-TTL:PT1H
BEGIN:VTIMEZONE
TZID:Europe/Zurich
BEGIN:DAYLIGHT
TZOFFSETFROM:+0100
TZOFFSETTO:+0200
TZNAME:CEST
DTSTART:20250330T010000
END:DAYLIGHT
BEGIN:STANDARD
TZOFFSETFROM:+0200
TZOFFSETTO:+0100
TZNAME:CET
DTSTART:20251026T010000
END:STANDARD
END:VTIMEZONE
BEGIN:VEVENT
DTSTART;TZID=Europe/Zurich:20250122T090000
DTEND;TZID=Europe/Zurich:20250123T130000
DTSTAMP:20260421T124850
CREATED:20241105T082044Z
LAST-MODIFIED:20250905T075123Z
UID:2999-1737536400-1737637200@swapp.ch
SUMMARY:shqa Medical Affairs Certificate Program Module C – Scientific Excellence
DESCRIPTION:Description\nThis module is a 1.5-day course of which 1 day takes place on site and 0.5 days as a live webinar \nModule content \n\nScientific knowledge and understanding\nData generation in Switzerland\nTransfer of science into patient care\n\nSkills and competencies addressed \nAfter completion of this module\, the participants will have the following … \n\nKnowledge and understanding\n\nClinical development process & post-approval research -Swiss specific aspects of company-internal headquarter processes\nDesign and conduct of data generation projects in Switzerland\n\nLegal basics in human research\nSwissethics / Swissmedic\nStakeholder / patients / public involvement & GCP\n\n\nPublication of generated data\n\n\n\n\nAnd are able to apply in their job\n\nShaping the role of a local MA organization in the clinical development process & post-approval research\nLocalization of international data generation / local studies\nGenerating data in Switzerland that can be published\nTransfer of science into patient care – "from science to patient care"\n\n\n\n\nThe following related topics/skills are also cross-referenced to other modules\n\nCommunication of complex data\, module B Medical communication & presentation\nSwiss regulatory environment\, module A Swiss healthcare system\nStakeholder mapping to be continued\, module A Swiss healthcare system\n\n\n\nMore information on the shqa webpage. \nPlace: 
URL:https://swapp.ch/event/shqa-medical-affairs-certificate-program-module-c-scientific-excellence/
LOCATION:Trafo Baden Kultur und Kongresszentrum + Online
CATEGORIES:SwAPP accredited events
END:VEVENT
END:VCALENDAR